BEGIN:VCALENDAR
PRODID:-//Det Danske Spejderkorps//NONSGML Gruppeweb//EN
VERSION:2.0
CALSCALE:GREGORIAN
X-PUBLISHED-TTL:PT1H
X-WR-CALNAME:Skovfolk
METHOD:PUBLISH
BEGIN:VEVENT
UID:gruppeweb.dk:2607:event:2435
DTSTAMP:20260422T235359Z
LAST-MODIFIED:20260108T202952Z
SUMMARY:Vinterfest 2026
DESCRIPTION:Familiearrangement kombineret med generalforsamling i Vigge gru
 ppe.\n\nAlle spejdere og deres familier inviteres hermed til at fejre nyt
 året sammen  \nmed Vigge og få en smag af spejderlivet med bål\, aktivi
 teter og uddeling af  \nindividuelle årsmærker.\n\n
URL:https://www.vigge.dk/begivenhed/vinterfest-2026
DTSTART:20260131T130000Z
DTEND:20260131T163000Z
LOCATION:Bålplads over for Himmelev Kirke\, Fynsvej\, 4000 Roskilde
END:VEVENT
BEGIN:VEVENT
UID:gruppeweb.dk:2607:event:2436
DTSTAMP:20260422T235359Z
LAST-MODIFIED:20250811T202623Z
SUMMARY:Bålfest
DESCRIPTION:Som traditionen byder mødes vi spejdere og familien den først
 e lørdag  \nefter sommerferien til fælles bålfest og oprykning på Kild
 ebakken.\n\nLæs mere i vedlagte invitation\, som også er sendt ud på ma
 il til alle  \nmedlemmer.\n\nVi håber at se rigtig mange af jer\, så sky
 nd jer ind at blive tilmeldt  \nsenest den 13. august.\n\nOBS! Fejl i mød
 etid rettet\, så enslydende med invitation. Mødested rettet  \ntil Hersl
 ev Havn (græsareal ved p-plads)\, hvorfra vi samlet går til  \nKildebakk
 en.\n\n
URL:https://www.vigge.dk/begivenhed/baalfest-4
DTSTART:20250816T113000Z
DTEND:20250816T180000Z
LOCATION:Herslev Havn\, Herslev Strandvej 10\, 4000 Roskilde
END:VEVENT
BEGIN:VEVENT
UID:gruppeweb.dk:2607:event:2441
DTSTAMP:20260422T235359Z
LAST-MODIFIED:20260213T000043Z
SUMMARY:Arbejdsdag for forældre
DESCRIPTION:Arbejdsdag på Egegården\, bålhytten og shelterpladsen for al
 le i Vigge -  \nmest for forældre\, men børn\, ledere\, bedsteforældre 
 og andre er også  \nvelkomne.\n\nHytteudvalget sørger for en god arbejds
 plan med opgaver til dem med  \nhåndværksevner\, og til dem der kan lide
  at sortere og rydde op.\n\nVi slutter arbejdsdagen af med at tænde op i 
 grillen\, og har derfor brug for  \ntilmelding.\n\n
URL:https://www.vigge.dk/begivenhed/arbejdsdag-foraeldre
DTSTART:20250524T120000Z
DTEND:20250524T150000Z
LOCATION:Vigge Gruppe\, Himmelev Bygade 22A\, Himmelev\, 4000 Roskilde
END:VEVENT
BEGIN:VEVENT
UID:gruppeweb.dk:2607:event:2476
DTSTAMP:20260422T235359Z
LAST-MODIFIED:20260213T000001Z
SUMMARY:Køb Vigge-t-shirt eller hoodie 2025
DESCRIPTION:Grib den årlige chance for at få opdateret garderoben med en 
 ekstra  \nVigge-t-shirt til sommerens spejdermøder og ture - eller til hv
 erdag og  \nskole.\n\nI år har vi efter de store spejderes ønske udvidet
  sortimentet med en  \nhoodie. Både t-shirt (100 kr) og hoodie (220 kr) e
 r mørkeblå med hvidt  \ntryk på bryst og ryg og i en god kvalitet som k
 an holde til spejderlivet og  \nsom yndlingstøj i skolen.\n\nFor at minim
 ere administration og indkøbspris er der kun denne ene chance i  \når fo
 r at få en t-shirt. Betal nu og få t-shirten udleveret til et  \nspejder
 møde i juni.\n\n
URL:https://www.vigge.dk/begivenhed/koeb-vigge-t-shirt-eller-hoodie-2025
DTSTART:20250605T180000Z
DTEND:20250605T215900Z
LOCATION:Vigge Gruppe\, Himmelev Bygade 22A\, Himmelev\, 4000 Roskilde
END:VEVENT
BEGIN:VEVENT
UID:gruppeweb.dk:2607:event:2555
DTSTAMP:20260422T235359Z
LAST-MODIFIED:20250926T155651Z
SUMMARY:Gruppeweekend 2025
DESCRIPTION:Info sendt på mail 25/9:\n\nSå nærmer årets gruppeweekend s
 ig\, hvor vi skal mærke at vi er mange i  \nVigge. Og i år får vi det v
 irkelig at mærke\, da 135 har tilmeldt sig\,  \nhvilket vist er rekord i 
 Vigge!\n\nSå vi har bestilt en ekstra bus og støvet alle vores telte af.
  Vi kommer  \ntil at ligge tæt\, men så holder man også bedre varmen 
 🙂. Vejret ser ud  \ntil at vise sig fra sin flotteste efterårsside\, s
 å det tegner til en skøn  \nweekend.\n\nVi glæder os til at se jer lør
 dag morgen kl. 8 på Egegården til fælles  \nafgang. Parkér dog ikke in
 de i gården\, men benyt fx Gadegårdens p-plads  \npå den anden side af 
 vejen. Hvis ikke I har fået pakkeliste fra jeres  \nledere\, så husk ud
  over udetøj\, sovegrej mm. også madpakke til frokost  \nlørdag\, som v
 anligt.\n\nI forhold til ønsker og tilbud om lift til hjemtransport sønd
 ag\, ser det ud  \ntil at nok har tilbudt plads til\, at alle dem som har 
 ønsket et lift kan få  \ndet. Forvent at det vil være med afsætning p
 å Egegården\, og ikke  \nnødvendigvis til egen bopæl. For dem som det 
 er relevant kommer nærmere  \ninfo i løbet af lørdagen.\n\nHilsen grupp
 elederne\n\nJustina\, Berit og Cornelis \n\n\n\nKære nysgerrige spejdere
 \n\nEn mystisk virus har ramt Danmark. Derfor har vi brug for en masse fri
 ske  \nspejdere til at hjælpe os med at finde vaccinen\, der kan stoppe u
 dbruddet.\n\nSå meld dig til årets gruppeweekend d. 27.-28. september me
 d alle dine  \nspejdervenner.\n\nSe vedlagte invitation\, og husk tilmeldi
 ng senest d. 21. september.\n\nDeltagerpris er 180 kr. Ledere og hjælpere
  betaler ikke for deltagelse.\n\n
URL:https://www.vigge.dk/begivenhed/gruppeweekend-2025
DTSTART:20250927T060000Z
DTEND:20250928T110000Z
LOCATION:Andelslandsbyen Nyvang\, Nyvangs Allé 4\, 4300 Holbæk
END:VEVENT
BEGIN:VEVENT
UID:gruppeweb.dk:2607:event:2818
DTSTAMP:20260422T235359Z
LAST-MODIFIED:20260417T160633Z
SUMMARY:Vandredag 2026
DESCRIPTION:Igen i år afholder vi vores traditionelle vandretur for spejde
 re og deres  \nfamilie. Så sæt kryds i kalenderen og inviter familie\, v
 enner og naboer med  \nud at gå en tur igennem den fantastiske sjællands
 ke natur mens foråret  \npipler frem overalt.\n\n*OBS\n*gpx-filen kan ikk
 e åbnes i google-maps eller apple-maps\n\n
URL:https://www.vigge.dk/begivenhed/vandredag-2026
DTSTART:20260419T040000Z
DTEND:20260419T160000Z
LOCATION:Vigge Gruppe\, Himmelev Bygade 22A\, Himmelev\, 4000 Roskilde
END:VEVENT
BEGIN:VEVENT
UID:gruppeweb.dk:2607:event:2837
DTSTAMP:20260422T235359Z
LAST-MODIFIED:20260319T204609Z
SUMMARY:Vigge krisemøde
DESCRIPTION:Vigge gruppe står i en særdeles svær situation.\n\nVi er en 
 stor spejdergruppe\, hvor der er en stor interesse for at være  \nspejder
 . Vi er heldige at have en stabil og dedikeret flok frivillige ledere  \nt
 il at lave spændende spejderarbejde for de mange aktive medlemmer i Vigge
 .  \nMen på det nyligt afholdte grupperådsmøde stillede ingen op som fo
 rmand\,  \nog den nyvalgte kasserer har desværre måtte trække sig af pe
 rsonlige  \nårsager. Så pt. står Vigge uden formand og kasserer.\n\nBes
 tyrelsen er en essentiel del af gruppen og uden en stabil bestyrelse til  
 \nat støtte spejderlederne\, ser fremtiden for Vigge dyster ud\, og hele 
  \nspejderarbejdet står på spil. Det har de senere år været svært at 
 finde  \nnok frivillige til at hjælpe med bestyrelsesarbejdet i Vigge. Å
 rsagen kan  \nvi kun gisne om\, men der er brug for at vende denne udvikli
 ng. Inden der  \nafholdes ekstraordinært grupperådsmøde\, vil vi derfor
  gerne invitere til  \net dialogmøde\, hvor vi sammen kan drøfte mulige 
 løsninger på problemet. \n\n*Tirsdag den 24. marts kl. 19.30*\, inviter
 es I derfor alle til møde om  \nVigges fremtid på Egegården.\n\n
URL:https://www.vigge.dk/begivenhed/vigge-krisemoede
DTSTART:20260324T183000Z
DTEND:20260324T193000Z
LOCATION:Vigge Gruppe\, Himmelev Bygade 22A\, Himmelev\, 4000 Roskilde
END:VEVENT
BEGIN:VEVENT
UID:gruppeweb.dk:2607:event:2855
DTSTAMP:20260422T235359Z
LAST-MODIFIED:20260415T213001Z
SUMMARY:Ekstraordinært grupperådsmøde (= generalforsamling)
DESCRIPTION:Kære spejdere fra 15 år\, forældre\, ledere og frivillige i 
 Vigge Gruppe  \n\nSom tidligere skrevet ud\, står Vigge Gruppe lige nu 
 uden en formand og  \nkasserer. På det nyligt afholdte dialogmøde d. 24.
  marts kom nogle gode  \ninput\, som vi har drøftet i bestyrelsen.\n\nPå
  den baggrund indkaldes I hermed til ekstraordinært grupperådsmøde (=
   \ngeneralforsamling i spejdersprog) med vedlagte dagsorden. Hovedfokus e
 r at  \nfå besat de udestående poster i bestyrelsen\, så Vigge Gruppe k
 an  \nfortsætte det gode spejderarbejde for de mange unge og frivillige.\
 n\nDet afholdes torsdag d. 7. maj kl. 19.30-20.30 på Egegården\, Himme
 lev  \nBygade 22A\, 4000 Roskilde.\n\nVi håber at mange af jer kan komme 
 og støtte op om Vigge Gruppe.\n\n\nPå vegne af bestyrelsen  \n\nBerit 
 Land Nielsen\, gruppeleder\n\n
URL:https://www.vigge.dk/begivenhed/ekstraordinaert-grupperaadsmoede-genera
 lforsamling
DTSTART:20260507T173000Z
DTEND:20260507T183000Z
LOCATION:Vigge Gruppe\, Himmelev Bygade 22A\, Himmelev\, 4000 Roskilde
END:VEVENT
BEGIN:VEVENT
UID:gruppeweb.dk:2607:event:2860
DTSTAMP:20260422T235359Z
LAST-MODIFIED:20260422T210114Z
SUMMARY:Køb Vigge-t-shirt eller hoodie 2026
DESCRIPTION:Grib den årlige chance for at få opdateret garderoben med en 
 (ekstra)  \nVigge-t-shirt eller hoodie til sommerens spejdermøder og ture
  - den er også  \npopulær til hverdag og skole.\n\nBåde t-shirt (100 kr
 ) og hoodie (220 kr) er mørkeblå med hvidt tryk på  \nbryst og ryg og i
  en god kvalitet som kan holde til aktivitet og vask.\n\nFor at minimere a
 dministration og indkøbspris er der kun denne ene chance i  \når for at 
 bestile. Betal nu og få t-shirt eller hoodie udleveret til et  \nspejderm
 øde i juni.\n\n
URL:https://www.vigge.dk/begivenhed/koeb-vigge-t-shirt-eller-hoodie-2026
DTSTART:20260517T180000Z
DTEND:20260517T215900Z
LOCATION:Vigge Gruppe\, Himmelev Bygade 22A\, Himmelev\, 4000 Roskilde
END:VEVENT
BEGIN:VEVENT
UID:gruppeweb.dk:2607:event:2597
DTSTAMP:20260422T235359Z
LAST-MODIFIED:20260108T112731Z
SUMMARY:Fri Spejd
DESCRIPTION:Pladsen åbner 9.30\, mens vi gør aktiviteterne klar. Kl 10.00
  hejser vi  \nflaget\, synger en sang og gennemgår dagens aktiviteter. He
 refter er det  \nmuligt at deltage frit i en eller flere aktiviteter\, kla
 tre i træer eller  \nrode i søen. Undervejs spiser vi madpakker\, og kl 
 12.45 slutter vi af.\n\nSkriv dig op til nyhedsbrevet om Fri Spejd [1]\n\n
 \n[1] https://mailchi.mp/97e20127533d/hr-nyt-om-fri-spejd\n
URL:https://www.vigge.dk/begivenhed/fri-spejd-0
DTSTART:20260627T080000Z
DTEND:20260627T110000Z
LOCATION:Himmelev Skov - ved shelterne\, Herregårdsvej 61\, 4000 Roskilde
END:VEVENT
BEGIN:VEVENT
UID:gruppeweb.dk:2607:event:2598
DTSTAMP:20260422T235359Z
LAST-MODIFIED:20260108T112731Z
SUMMARY:Fri Spejd
DESCRIPTION:Pladsen åbner 9.30\, mens vi gør aktiviteterne klar. Kl 10.00
  hejser vi  \nflaget\, synger en sang og gennemgår dagens aktiviteter. He
 refter er det  \nmuligt at deltage frit i en eller flere aktiviteter\, kla
 tre i træer eller  \nrode i søen. Undervejs spiser vi madpakker\, og kl 
 12.45 slutter vi af.\n\nSkriv dig op til nyhedsbrevet om Fri Spejd [1]\n\n
 \n[1] https://mailchi.mp/97e20127533d/hr-nyt-om-fri-spejd\n
URL:https://www.vigge.dk/begivenhed/fri-spejd-1
DTSTART:20260530T080000Z
DTEND:20260530T110000Z
LOCATION:Himmelev Skov - ved shelterne\, Herregårdsvej 61\, 4000 Roskilde
END:VEVENT
BEGIN:VEVENT
UID:gruppeweb.dk:2607:event:2599
DTSTAMP:20260422T235359Z
LAST-MODIFIED:20260108T112731Z
SUMMARY:Fri Spejd
DESCRIPTION:Pladsen åbner 9.30\, mens vi gør aktiviteterne klar. Kl 10.00
  hejser vi  \nflaget\, synger en sang og gennemgår dagens aktiviteter. He
 refter er det  \nmuligt at deltage frit i en eller flere aktiviteter\, kla
 tre i træer eller  \nrode i søen. Undervejs spiser vi madpakker\, og kl 
 12.45 slutter vi af.\n\nSkriv dig op til nyhedsbrevet om Fri Spejd [1]\n\n
 \n[1] https://mailchi.mp/97e20127533d/hr-nyt-om-fri-spejd\n
URL:https://www.vigge.dk/begivenhed/fri-spejd-2
DTSTART:20260425T080000Z
DTEND:20260425T110000Z
LOCATION:Himmelev Skov - ved shelterne\, Herregårdsvej 61\, 4000 Roskilde
END:VEVENT
BEGIN:VEVENT
UID:gruppeweb.dk:2607:event:2600
DTSTAMP:20260422T235359Z
LAST-MODIFIED:20260108T112731Z
SUMMARY:Fri Spejd
DESCRIPTION:Pladsen åbner 9.30\, mens vi gør aktiviteterne klar. Kl 10.00
  hejser vi  \nflaget\, synger en sang og gennemgår dagens aktiviteter. He
 refter er det  \nmuligt at deltage frit i en eller flere aktiviteter\, kla
 tre i træer eller  \nrode i søen. Undervejs spiser vi madpakker\, og kl 
 12.45 slutter vi af.\n\nSkriv dig op til nyhedsbrevet om Fri Spejd [1]\n\n
 \n[1] https://mailchi.mp/97e20127533d/hr-nyt-om-fri-spejd\n
URL:https://www.vigge.dk/begivenhed/fri-spejd-3
DTSTART:20260328T090000Z
DTEND:20260328T120000Z
LOCATION:Himmelev Skov - ved shelterne\, Herregårdsvej 61\, 4000 Roskilde
END:VEVENT
BEGIN:VEVENT
UID:gruppeweb.dk:2607:event:2601
DTSTAMP:20260422T235359Z
LAST-MODIFIED:20260108T112731Z
SUMMARY:Fri Spejd
DESCRIPTION:Pladsen åbner 9.30\, mens vi gør aktiviteterne klar. Kl 10.00
  hejser vi  \nflaget\, synger en sang og gennemgår dagens aktiviteter. He
 refter er det  \nmuligt at deltage frit i en eller flere aktiviteter\, kla
 tre i træer eller  \nrode i søen. Undervejs spiser vi madpakker\, og kl 
 12.45 slutter vi af.\n\nSkriv dig op til nyhedsbrevet om Fri Spejd [1]\n\n
 \n[1] https://mailchi.mp/97e20127533d/hr-nyt-om-fri-spejd\n
URL:https://www.vigge.dk/begivenhed/fri-spejd-4
DTSTART:20260228T090000Z
DTEND:20260228T120000Z
LOCATION:Himmelev Skov - ved shelterne\, Herregårdsvej 61\, 4000 Roskilde
END:VEVENT
BEGIN:VEVENT
UID:gruppeweb.dk:2607:event:2602
DTSTAMP:20260422T235359Z
LAST-MODIFIED:20260108T112731Z
SUMMARY:Fri Spejd
DESCRIPTION:Pladsen åbner 9.30\, mens vi gør aktiviteterne klar. Kl 10.00
  hejser vi  \nflaget\, synger en sang og gennemgår dagens aktiviteter. He
 refter er det  \nmuligt at deltage frit i en eller flere aktiviteter\, kla
 tre i træer eller  \nrode i søen. Undervejs spiser vi madpakker\, og kl 
 12.45 slutter vi af.\n\nSkriv dig op til nyhedsbrevet om Fri Spejd [1]\n\n
 \n[1] https://mailchi.mp/97e20127533d/hr-nyt-om-fri-spejd\n
URL:https://www.vigge.dk/begivenhed/fri-spejd-5
DTSTART:20260131T090000Z
DTEND:20260131T120000Z
LOCATION:Himmelev Skov - ved shelterne\, Herregårdsvej 61\, 4000 Roskilde
END:VEVENT
BEGIN:VEVENT
UID:gruppeweb.dk:2607:event:2604
DTSTAMP:20260422T235359Z
LAST-MODIFIED:20260108T112731Z
SUMMARY:Fri Spejd
DESCRIPTION:Pladsen åbner 9.30\, mens vi gør aktiviteterne klar. Kl 10.00
  hejser vi  \nflaget\, synger en sang og gennemgår dagens aktiviteter. He
 refter er det  \nmuligt at deltage frit i en eller flere aktiviteter\, kla
 tre i træer eller  \nrode i søen. Undervejs spiser vi madpakker\, og kl 
 12.45 slutter vi af.\n\nSkriv dig op til nyhedsbrevet om Fri Spejd [1]\n\n
 \n[1] https://mailchi.mp/97e20127533d/hr-nyt-om-fri-spejd\n
URL:https://www.vigge.dk/begivenhed/fri-spejd-6
DTSTART:20251129T090000Z
DTEND:20251129T120000Z
LOCATION:Himmelev Skov - ved shelterne\, Herregårdsvej 61\, 4000 Roskilde
END:VEVENT
BEGIN:VEVENT
UID:gruppeweb.dk:2607:event:2605
DTSTAMP:20260422T235359Z
LAST-MODIFIED:20260108T112731Z
SUMMARY:Fri Spejd
DESCRIPTION:Pladsen åbner 9.30\, mens vi gør aktiviteterne klar. Kl 10.00
  hejser vi  \nflaget\, synger en sang og gennemgår dagens aktiviteter. He
 refter er det  \nmuligt at deltage frit i en eller flere aktiviteter\, kla
 tre i træer eller  \nrode i søen. Undervejs spiser vi madpakker\, og kl 
 12.45 slutter vi af.\n\nSkriv dig op til nyhedsbrevet om Fri Spejd [1]\n\n
 \n[1] https://mailchi.mp/97e20127533d/hr-nyt-om-fri-spejd\n
URL:https://www.vigge.dk/begivenhed/fri-spejd-7
DTSTART:20251025T080000Z
DTEND:20251025T110000Z
LOCATION:Himmelev Skov - ved shelterne\, Herregårdsvej 61\, 4000 Roskilde
END:VEVENT
BEGIN:VEVENT
UID:gruppeweb.dk:2607:event:2606
DTSTAMP:20260422T235359Z
LAST-MODIFIED:20260108T112731Z
SUMMARY:Fri Spejd
DESCRIPTION:Pladsen åbner 9.30\, mens vi gør aktiviteterne klar. Kl 10.00
  hejser vi  \nflaget\, synger en sang og gennemgår dagens aktiviteter. He
 refter er det  \nmuligt at deltage frit i en eller flere aktiviteter\, kla
 tre i træer eller  \nrode i søen. Undervejs spiser vi madpakker\, og kl 
 12.45 slutter vi af.\n\nSkriv dig op til nyhedsbrevet om Fri Spejd [1]\n\n
 \n[1] https://mailchi.mp/97e20127533d/hr-nyt-om-fri-spejd\n
URL:https://www.vigge.dk/begivenhed/fri-spejd-8
DTSTART:20250927T080000Z
DTEND:20250927T110000Z
LOCATION:Himmelev Skov - ved shelterne\, Herregårdsvej 61\, 4000 Roskilde
END:VEVENT
BEGIN:VEVENT
UID:gruppeweb.dk:2607:event:2607
DTSTAMP:20260422T235359Z
LAST-MODIFIED:20260108T112731Z
SUMMARY:Fri Spejd
DESCRIPTION:Pladsen åbner 9.30\, mens vi gør aktiviteterne klar. Kl 10.00
  hejser vi  \nflaget\, synger en sang og gennemgår dagens aktiviteter. He
 refter er det  \nmuligt at deltage frit i en eller flere aktiviteter\, kla
 tre i træer eller  \nrode i søen. Undervejs spiser vi madpakker\, og kl 
 12.45 slutter vi af.\n\nSkriv dig op til nyhedsbrevet om Fri Spejd [1]\n\n
 \n[1] https://mailchi.mp/97e20127533d/hr-nyt-om-fri-spejd\n
URL:https://www.vigge.dk/begivenhed/fri-spejd-9
DTSTART:20250830T080000Z
DTEND:20250830T110000Z
LOCATION:Himmelev Skov - ved shelterne\, Herregårdsvej 61\, 4000 Roskilde
END:VEVENT
BEGIN:VEVENT
UID:gruppeweb.dk:2607:event:2773
DTSTAMP:20260422T235359Z
LAST-MODIFIED:20260212T235344Z
SUMMARY:Voksenhygge
DESCRIPTION:Vi siger tak for året der er gået til alle frivillige voksne\
 , ledere\,  \nbestyrelse og klanspejdere med en hyggeaften med spisning\, 
 spil og snak.\n\nTilmelding er ikke påkrævet\, men er en fordel i forhol
 d til indkøb.\n\n
URL:https://www.vigge.dk/begivenhed/voksenhygge-0
DTSTART:20260131T170000Z
DTEND:20260131T225900Z
LOCATION:Sognegården ved Himmelev Kirke\, Fynsvej 69\, Himmelev\, 4000 Ros
 kilde
END:VEVENT
END:VCALENDAR
